Package: oposSOM Version: 2.24.0 Command: /home/biocbuild/R/R/bin/R CMD build --keep-empty-dirs --no-resave-data oposSOM StartedAt: 2025-04-01 01:19:53 -0000 (Tue, 01 Apr 2025) EndedAt: 2025-04-01 01:21:04 -0000 (Tue, 01 Apr 2025) EllapsedTime: 71.1 seconds RetCode: 0 Status: OK PackageFile: oposSOM_2.24.0.tar.gz PackageFileSize: 13.34 MiB