Package: oposSOM Version: 2.24.0 Command: F:\biocbuild\bbs-3.20-bioc\R\bin\R.exe CMD INSTALL oposSOM StartedAt: 2025-03-31 16:08:47 -0400 (Mon, 31 Mar 2025) EndedAt: 2025-03-31 16:10:59 -0400 (Mon, 31 Mar 2025) EllapsedTime: 131.7 seconds RetCode: 0 Status: OK