Package: openPrimeR Version: 1.28.0 Command: /home/biocbuild/R/R/bin/R CMD INSTALL openPrimeR StartedAt: 2025-03-31 21:06:56 -0000 (Mon, 31 Mar 2025) EndedAt: 2025-03-31 21:07:33 -0000 (Mon, 31 Mar 2025) EllapsedTime: 37.4 seconds RetCode: 0 Status: OK