Package: openPrimeR Version: 1.28.0 Command: /home/biocbuild/R/R/bin/R CMD check --install=check:openPrimeR.install-out.txt --library=/home/biocbuild/R/R/site-library --no-vignettes --timings openPrimeR_1.28.0.tar.gz StartedAt: 2025-04-01 09:09:07 -0000 (Tue, 01 Apr 2025) EndedAt: 2025-04-01 09:14:22 -0000 (Tue, 01 Apr 2025) EllapsedTime: 314.6 seconds RetCode: 0 Status: OK CheckDir: openPrimeR.Rcheck Warnings: 0