Package: openPrimeR Version: 1.28.0 Command: /home/biocbuild/R/R/bin/R CMD build --keep-empty-dirs --no-resave-data openPrimeR StartedAt: 2025-04-01 01:19:37 -0000 (Tue, 01 Apr 2025) EndedAt: 2025-04-01 01:21:18 -0000 (Tue, 01 Apr 2025) EllapsedTime: 101.2 seconds RetCode: 0 Status: OK PackageFile: openPrimeR_1.28.0.tar.gz PackageFileSize: 1.822 MiB