Package: openPrimeR Version: 1.28.0 Command: /Library/Frameworks/R.framework/Resources/bin/R CMD INSTALL openPrimeR StartedAt: 2025-03-31 16:32:17 -0400 (Mon, 31 Mar 2025) EndedAt: 2025-03-31 16:33:23 -0400 (Mon, 31 Mar 2025) EllapsedTime: 65.6 seconds RetCode: 0 Status: OK