Package: openPrimeR Version: 1.28.0 Command: /Library/Frameworks/R.framework/Resources/bin/R CMD build --keep-empty-dirs --no-resave-data openPrimeR StartedAt: 2025-03-31 20:44:55 -0400 (Mon, 31 Mar 2025) EndedAt: 2025-03-31 20:47:45 -0400 (Mon, 31 Mar 2025) EllapsedTime: 169.8 seconds RetCode: 0 Status: OK PackageFile: openPrimeR_1.28.0.tar.gz PackageFileSize: 2.152 MiB