Package: openPrimeR Version: 1.28.0 Command: /Library/Frameworks/R.framework/Resources/bin/R CMD INSTALL openPrimeR StartedAt: 2025-03-31 17:59:23 -0400 (Mon, 31 Mar 2025) EndedAt: 2025-03-31 17:59:53 -0400 (Mon, 31 Mar 2025) EllapsedTime: 30.0 seconds RetCode: 0 Status: OK