Package: openCyto Version: 2.18.0 Command: /Library/Frameworks/R.framework/Resources/bin/R CMD check --install=check:openCyto.install-out.txt --library=/Library/Frameworks/R.framework/Resources/library --no-vignettes --timings openCyto_2.18.0.tar.gz StartedAt: 2025-03-21 06:45:42 -0400 (Fri, 21 Mar 2025) EndedAt: 2025-03-21 06:50:39 -0400 (Fri, 21 Mar 2025) EllapsedTime: 296.8 seconds RetCode: 0 Status: WARNINGS CheckDir: openCyto.Rcheck Warnings: 4