Package: openCyto Version: 2.18.0 Command: /Library/Frameworks/R.framework/Resources/bin/R CMD INSTALL openCyto StartedAt: 2025-03-31 15:35:45 -0400 (Mon, 31 Mar 2025) EndedAt: 2025-03-31 15:36:14 -0400 (Mon, 31 Mar 2025) EllapsedTime: 28.8 seconds RetCode: 0 Status: OK