Package: openCyto Version: 2.18.0 Command: /Library/Frameworks/R.framework/Resources/bin/R CMD build --keep-empty-dirs --no-resave-data openCyto StartedAt: 2025-04-01 04:37:22 -0400 (Tue, 01 Apr 2025) EndedAt: 2025-04-01 04:38:45 -0400 (Tue, 01 Apr 2025) EllapsedTime: 82.8 seconds RetCode: 1 Status: ERROR PackageFile: None PackageFileSize: NA