Package: ontoProc Version: 2.0.0 Command: rm -rf ontoProc.buildbin-libdir && mkdir ontoProc.buildbin-libdir && F:\biocbuild\bbs-3.20-bioc\R\bin\R.exe CMD INSTALL --build --library=ontoProc.buildbin-libdir ontoProc_2.0.0.tar.gz StartedAt: 2025-04-01 08:48:02 -0400 (Tue, 01 Apr 2025) EndedAt: 2025-04-01 08:49:14 -0400 (Tue, 01 Apr 2025) EllapsedTime: 71.2 seconds RetCode: 0 Status: OK PackageFile: ontoProc_2.0.0.zip PackageFileSize: 10.7 MiB