Package: onlineFDR Version: 2.14.0 Command: /home/biocbuild/R/R/bin/R CMD INSTALL onlineFDR StartedAt: 2025-03-31 20:13:31 -0000 (Mon, 31 Mar 2025) EndedAt: 2025-03-31 20:15:12 -0000 (Mon, 31 Mar 2025) EllapsedTime: 101.2 seconds RetCode: 0 Status: OK