Package: onlineFDR Version: 2.14.0 Command: /Library/Frameworks/R.framework/Resources/bin/R CMD INSTALL onlineFDR StartedAt: 2025-03-31 15:06:25 -0400 (Mon, 31 Mar 2025) EndedAt: 2025-03-31 15:07:49 -0400 (Mon, 31 Mar 2025) EllapsedTime: 84.5 seconds RetCode: 0 Status: OK