Package: onlineFDR Version: 2.14.0 Command: /Library/Frameworks/R.framework/Resources/bin/R CMD build --keep-empty-dirs --no-resave-data onlineFDR StartedAt: 2025-03-31 20:44:22 -0400 (Mon, 31 Mar 2025) EndedAt: 2025-03-31 20:45:53 -0400 (Mon, 31 Mar 2025) EllapsedTime: 90.8 seconds RetCode: 0 Status: OK PackageFile: onlineFDR_2.14.0.tar.gz PackageFileSize: 1.921 MiB