Package: oncoscanR Version: 1.8.0 Command: F:\biocbuild\bbs-3.20-bioc\R\bin\R.exe CMD check --no-multiarch --install=check:oncoscanR.install-out.txt --library=F:\biocbuild\bbs-3.20-bioc\R\library --no-vignettes --timings oncoscanR_1.8.0.tar.gz StartedAt: 2025-04-01 04:15:43 -0400 (Tue, 01 Apr 2025) EndedAt: 2025-04-01 04:23:10 -0400 (Tue, 01 Apr 2025) EllapsedTime: 446.9 seconds RetCode: 0 Status: OK CheckDir: oncoscanR.Rcheck Warnings: 0