Package: oncoscanR Version: 1.8.0 Command: /Library/Frameworks/R.framework/Resources/bin/R CMD check --install=check:oncoscanR.install-out.txt --library=/Library/Frameworks/R.framework/Resources/library --no-vignettes --timings oncoscanR_1.8.0.tar.gz StartedAt: 2025-04-02 03:17:15 -0400 (Wed, 02 Apr 2025) EndedAt: 2025-04-02 03:22:58 -0400 (Wed, 02 Apr 2025) EllapsedTime: 342.3 seconds RetCode: 0 Status: OK CheckDir: oncoscanR.Rcheck Warnings: 0