Package: oncoscanR Version: 1.8.0 Command: /Library/Frameworks/R.framework/Resources/bin/R CMD build --keep-empty-dirs --no-resave-data oncoscanR StartedAt: 2025-04-01 04:35:48 -0400 (Tue, 01 Apr 2025) EndedAt: 2025-04-01 04:38:16 -0400 (Tue, 01 Apr 2025) EllapsedTime: 147.5 seconds RetCode: 0 Status: OK PackageFile: oncoscanR_1.8.0.tar.gz PackageFileSize: 990.8 KiB