Package: oncoscanR Version: 1.8.0 Command: rm -rf oncoscanR.buildbin-libdir && mkdir oncoscanR.buildbin-libdir && /Users/biocbuild/BBS/utils/build-universal.sh oncoscanR_1.8.0.tar.gz /Library/Frameworks/R.framework/Resources/bin/R oncoscanR.buildbin-libdir StartedAt: 2025-04-02 15:31:49 -0400 (Wed, 02 Apr 2025) EndedAt: 2025-04-02 15:32:05 -0400 (Wed, 02 Apr 2025) EllapsedTime: 15.8 seconds RetCode: 0 Status: OK PackageFile: oncoscanR_1.8.0.tgz PackageFileSize: 1.045 MiB