Package: oncomix Version: 1.28.0 Command: /home/biocbuild/R/R/bin/R CMD INSTALL oncomix StartedAt: 2025-03-31 20:23:41 -0000 (Mon, 31 Mar 2025) EndedAt: 2025-03-31 20:24:12 -0000 (Mon, 31 Mar 2025) EllapsedTime: 30.4 seconds RetCode: 0 Status: OK