Package: oncomix Version: 1.28.0 Command: chmod a+r oncomix -R && F:\biocbuild\bbs-3.20-bioc\R\bin\R.exe CMD build --keep-empty-dirs --no-resave-data oncomix StartedAt: 2025-03-31 20:42:12 -0400 (Mon, 31 Mar 2025) EndedAt: 2025-03-31 20:45:12 -0400 (Mon, 31 Mar 2025) EllapsedTime: 180.3 seconds RetCode: 0 Status: OK PackageFile: oncomix_1.28.0.tar.gz PackageFileSize: 1.688 MiB