Package: oncomix Version: 1.28.0 Command: /Library/Frameworks/R.framework/Resources/bin/R CMD build --keep-empty-dirs --no-resave-data oncomix StartedAt: 2025-03-31 20:43:31 -0400 (Mon, 31 Mar 2025) EndedAt: 2025-03-31 20:44:55 -0400 (Mon, 31 Mar 2025) EllapsedTime: 84.2 seconds RetCode: 0 Status: OK PackageFile: oncomix_1.28.0.tar.gz PackageFileSize: 2.433 MiB