Package: oncomix Version: 1.28.0 Command: rm -rf oncomix.buildbin-libdir && mkdir oncomix.buildbin-libdir && /Users/biocbuild/BBS/utils/build-universal.sh oncomix_1.28.0.tar.gz /Library/Frameworks/R.framework/Resources/bin/R oncomix.buildbin-libdir StartedAt: 2025-04-01 12:23:59 -0400 (Tue, 01 Apr 2025) EndedAt: 2025-04-01 12:24:48 -0400 (Tue, 01 Apr 2025) EllapsedTime: 49.3 seconds RetCode: 0 Status: OK PackageFile: oncomix_1.28.0.tgz PackageFileSize: 2.464 MiB