Package: ompBAM Version: 1.10.0 Command: /home/biocbuild/R/R/bin/R CMD INSTALL ompBAM StartedAt: 2025-03-31 21:04:11 -0000 (Mon, 31 Mar 2025) EndedAt: 2025-03-31 21:04:13 -0000 (Mon, 31 Mar 2025) EllapsedTime: 2.3 seconds RetCode: 0 Status: OK