Package: ompBAM Version: 1.10.0 Command: /Library/Frameworks/R.framework/Resources/bin/R CMD build --keep-empty-dirs --no-resave-data ompBAM StartedAt: 2025-03-31 20:43:10 -0400 (Mon, 31 Mar 2025) EndedAt: 2025-03-31 20:43:49 -0400 (Mon, 31 Mar 2025) EllapsedTime: 39.4 seconds RetCode: 0 Status: OK PackageFile: ompBAM_1.10.0.tar.gz PackageFileSize: 3.142 MiB