Package: omicsViewer Version: 1.10.0 Command: /home/biocbuild/R/R/bin/R CMD check --install=check:omicsViewer.install-out.txt --library=/home/biocbuild/R/R/site-library --no-vignettes --timings omicsViewer_1.10.0.tar.gz StartedAt: 2025-04-01 09:05:50 -0000 (Tue, 01 Apr 2025) EndedAt: 2025-04-01 09:12:27 -0000 (Tue, 01 Apr 2025) EllapsedTime: 397.6 seconds RetCode: 0 Status: OK CheckDir: omicsViewer.Rcheck Warnings: 0