Package: omicsViewer Version: 1.10.0 Command: chmod a+r omicsViewer -R && F:\biocbuild\bbs-3.20-bioc\R\bin\R.exe CMD build --keep-empty-dirs --no-resave-data omicsViewer StartedAt: 2025-03-31 20:41:08 -0400 (Mon, 31 Mar 2025) EndedAt: 2025-03-31 20:42:32 -0400 (Mon, 31 Mar 2025) EllapsedTime: 84.0 seconds RetCode: 0 Status: OK PackageFile: omicsViewer_1.10.0.tar.gz PackageFileSize: 4.325 MiB