Package: omicsPrint Version: 1.26.0 Command: /home/biocbuild/R/R/bin/R CMD check --install=check:omicsPrint.install-out.txt --library=/home/biocbuild/R/R/site-library --no-vignettes --timings omicsPrint_1.26.0.tar.gz StartedAt: 2025-04-01 09:05:43 -0000 (Tue, 01 Apr 2025) EndedAt: 2025-04-01 09:09:20 -0000 (Tue, 01 Apr 2025) EllapsedTime: 217.2 seconds RetCode: 0 Status: WARNINGS CheckDir: omicsPrint.Rcheck Warnings: 1