Package: omicsPrint Version: 1.26.0 Command: /home/biocbuild/R/R/bin/R CMD build --keep-empty-dirs --no-resave-data omicsPrint StartedAt: 2025-04-01 01:16:37 -0000 (Tue, 01 Apr 2025) EndedAt: 2025-04-01 01:19:29 -0000 (Tue, 01 Apr 2025) EllapsedTime: 172.2 seconds RetCode: 0 Status: OK PackageFile: omicsPrint_1.26.0.tar.gz PackageFileSize: 4.193 MiB