Package: omicade4 Version: 1.46.0 Command: /Library/Frameworks/R.framework/Resources/bin/R CMD INSTALL omicade4 StartedAt: 2025-03-31 15:24:47 -0400 (Mon, 31 Mar 2025) EndedAt: 2025-03-31 15:25:11 -0400 (Mon, 31 Mar 2025) EllapsedTime: 24.7 seconds RetCode: 0 Status: OK