Package: omicRexposome Version: 1.28.0 Command: /home/biocbuild/R/R/bin/R CMD INSTALL omicRexposome StartedAt: 2025-03-31 21:01:32 -0000 (Mon, 31 Mar 2025) EndedAt: 2025-03-31 21:02:30 -0000 (Mon, 31 Mar 2025) EllapsedTime: 58.2 seconds RetCode: 0 Status: OK