Package: omada Version: 1.8.0 Command: /home/biocbuild/R/R/bin/R CMD INSTALL omada StartedAt: 2025-03-31 20:53:17 -0000 (Mon, 31 Mar 2025) EndedAt: 2025-03-31 20:53:32 -0000 (Mon, 31 Mar 2025) EllapsedTime: 15.0 seconds RetCode: 0 Status: OK