Package: omada Version: 1.8.0 Command: /home/biocbuild/R/R/bin/R CMD build --keep-empty-dirs --no-resave-data omada StartedAt: 2025-04-01 01:15:20 -0000 (Tue, 01 Apr 2025) EndedAt: 2025-04-01 01:17:58 -0000 (Tue, 01 Apr 2025) EllapsedTime: 157.2 seconds RetCode: 0 Status: OK PackageFile: omada_1.8.0.tar.gz PackageFileSize: 102.9 KiB