Package: omXplore Version: 1.0.2 Command: /home/biocbuild/R/R/bin/R CMD check --install=check:omXplore.install-out.txt --library=/home/biocbuild/R/R/site-library --no-vignettes --timings omXplore_1.0.2.tar.gz StartedAt: 2025-04-01 09:07:21 -0000 (Tue, 01 Apr 2025) EndedAt: 2025-04-01 09:13:45 -0000 (Tue, 01 Apr 2025) EllapsedTime: 383.6 seconds RetCode: 0 Status: OK CheckDir: omXplore.Rcheck Warnings: 0