Package: omXplore Version: 1.0.2 Command: F:\biocbuild\bbs-3.20-bioc\R\bin\R.exe CMD INSTALL omXplore StartedAt: 2025-03-31 17:02:50 -0400 (Mon, 31 Mar 2025) EndedAt: 2025-03-31 17:04:12 -0400 (Mon, 31 Mar 2025) EllapsedTime: 81.9 seconds RetCode: 0 Status: OK