Package: oligoClasses Version: 1.68.0 Command: /home/biocbuild/R/R/bin/R CMD build --keep-empty-dirs --no-resave-data oligoClasses StartedAt: 2025-04-01 01:15:09 -0000 (Tue, 01 Apr 2025) EndedAt: 2025-04-01 01:15:10 -0000 (Tue, 01 Apr 2025) EllapsedTime: 1.0 seconds RetCode: 0 Status: OK PackageFile: oligoClasses_1.68.0.tar.gz PackageFileSize: 364.6 KiB