Package: oligoClasses Version: 1.68.0 Command: /Library/Frameworks/R.framework/Resources/bin/R CMD check --install=check:oligoClasses.install-out.txt --library=/Library/Frameworks/R.framework/Resources/library --no-vignettes --timings oligoClasses_1.68.0.tar.gz StartedAt: 2025-04-01 06:36:28 -0400 (Tue, 01 Apr 2025) EndedAt: 2025-04-01 06:44:05 -0400 (Tue, 01 Apr 2025) EllapsedTime: 456.4 seconds RetCode: 0 Status: WARNINGS CheckDir: oligoClasses.Rcheck Warnings: 3