Package: oligo Version: 1.70.1 Command: F:\biocbuild\bbs-3.20-bioc\R\bin\R.exe CMD INSTALL oligo StartedAt: 2025-03-31 15:53:16 -0400 (Mon, 31 Mar 2025) EndedAt: 2025-03-31 15:53:35 -0400 (Mon, 31 Mar 2025) EllapsedTime: 18.9 seconds RetCode: 1 Status: ERROR