############################################################################## ############################################################################## ### ### Running command: ### ### F:\biocbuild\bbs-3.20-bioc\R\bin\R.exe CMD INSTALL oligo ### ############################################################################## ############################################################################## * installing to library 'F:/biocbuild/bbs-3.20-bioc/R/library' * installing *source* package 'oligo' ... ** using staged installation ** libs using C compiler: 'gcc.exe (GCC) 13.3.0' gcc -I"F:/biocbuild/bbs-3.20-bioc/R/library/zlibbioc/include" -I"F:/biocbuild/bbs-3.20-bioc/R/include" -DNDEBUG -I'F:/biocbuild/bbs-3.20-bioc/R/library/preprocessCore/include' -I"C:/rtools44/x86_64-w64-mingw32.static.posix/include" -O2 -Wall -mfpmath=sse -msse2 -mstackrealign -c DABG.c -o DABG.o gcc -I"F:/biocbuild/bbs-3.20-bioc/R/library/zlibbioc/include" -I"F:/biocbuild/bbs-3.20-bioc/R/include" -DNDEBUG -I'F:/biocbuild/bbs-3.20-bioc/R/library/preprocessCore/include' -I"C:/rtools44/x86_64-w64-mingw32.static.posix/include" -O2 -Wall -mfpmath=sse -msse2 -mstackrealign -c ParserGzXYS.c -o ParserGzXYS.o gcc -I"F:/biocbuild/bbs-3.20-bioc/R/library/zlibbioc/include" -I"F:/biocbuild/bbs-3.20-bioc/R/include" -DNDEBUG -I'F:/biocbuild/bbs-3.20-bioc/R/library/preprocessCore/include' -I"C:/rtools44/x86_64-w64-mingw32.static.posix/include" -O2 -Wall -mfpmath=sse -msse2 -mstackrealign -c ParserXYS.c -o ParserXYS.o ParserXYS.c: In function 'xys_header_field': ParserXYS.c:148:5: warning: implicit declaration of function 'error'; did you mean 'ferror'? [-Wimplicit-function-declaration] 148 | error("Error reading from %s.\n", currentFile); | ^~~~~ | ferror gcc -I"F:/biocbuild/bbs-3.20-bioc/R/library/zlibbioc/include" -I"F:/biocbuild/bbs-3.20-bioc/R/include" -DNDEBUG -I'F:/biocbuild/bbs-3.20-bioc/R/library/preprocessCore/include' -I"C:/rtools44/x86_64-w64-mingw32.static.posix/include" -O2 -Wall -mfpmath=sse -msse2 -mstackrealign -c baseProfile.c -o baseProfile.o gcc -I"F:/biocbuild/bbs-3.20-bioc/R/library/zlibbioc/include" -I"F:/biocbuild/bbs-3.20-bioc/R/include" -DNDEBUG -I'F:/biocbuild/bbs-3.20-bioc/R/library/preprocessCore/include' -I"C:/rtools44/x86_64-w64-mingw32.static.posix/include" -O2 -Wall -mfpmath=sse -msse2 -mstackrealign -c basecontent.c -o basecontent.o gcc -I"F:/biocbuild/bbs-3.20-bioc/R/library/zlibbioc/include" -I"F:/biocbuild/bbs-3.20-bioc/R/include" -DNDEBUG -I'F:/biocbuild/bbs-3.20-bioc/R/library/preprocessCore/include' -I"C:/rtools44/x86_64-w64-mingw32.static.posix/include" -O2 -Wall -mfpmath=sse -msse2 -mstackrealign -c chipbackground.c -o chipbackground.o gcc -I"F:/biocbuild/bbs-3.20-bioc/R/library/zlibbioc/include" -I"F:/biocbuild/bbs-3.20-bioc/R/include" -DNDEBUG -I'F:/biocbuild/bbs-3.20-bioc/R/library/preprocessCore/include' -I"C:/rtools44/x86_64-w64-mingw32.static.posix/include" -O2 -Wall -mfpmath=sse -msse2 -mstackrealign -c mas5calls.c -o mas5calls.o gcc -I"F:/biocbuild/bbs-3.20-bioc/R/library/zlibbioc/include" -I"F:/biocbuild/bbs-3.20-bioc/R/include" -DNDEBUG -I'F:/biocbuild/bbs-3.20-bioc/R/library/preprocessCore/include' -I"C:/rtools44/x86_64-w64-mingw32.static.posix/include" -O2 -Wall -mfpmath=sse -msse2 -mstackrealign -c rma2.c -o rma2.o gcc -I"F:/biocbuild/bbs-3.20-bioc/R/library/zlibbioc/include" -I"F:/biocbuild/bbs-3.20-bioc/R/include" -DNDEBUG -I'F:/biocbuild/bbs-3.20-bioc/R/library/preprocessCore/include' -I"C:/rtools44/x86_64-w64-mingw32.static.posix/include" -O2 -Wall -mfpmath=sse -msse2 -mstackrealign -c rma_common.c -o rma_common.o gcc -I"F:/biocbuild/bbs-3.20-bioc/R/library/zlibbioc/include" -I"F:/biocbuild/bbs-3.20-bioc/R/include" -DNDEBUG -I'F:/biocbuild/bbs-3.20-bioc/R/library/preprocessCore/include' -I"C:/rtools44/x86_64-w64-mingw32.static.posix/include" -O2 -Wall -mfpmath=sse -msse2 -mstackrealign -c trimmed.c -o trimmed.o gcc -shared -s -static-libgcc -o oligo.dll tmp.def DABG.o ParserGzXYS.o ParserXYS.o baseProfile.o basecontent.o chipbackground.o mas5calls.o rma2.o rma_common.o trimmed.o -lgfortran -lm -lquadmath -LF:/biocbuild/bbs-3.20-bioc/R/bin/x64 -lRlapack -LF:/biocbuild/bbs-3.20-bioc/R/bin/x64 -lRblas -LF:/biocbuild/bbs-3.20-bioc/R/library/zlibbioc/libs/x64 -lzlib1bioc -LC:/rtools44/x86_64-w64-mingw32.static.posix/lib/x64 -LC:/rtools44/x86_64-w64-mingw32.static.posix/lib -LF:/biocbuild/bbs-3.20-bioc/R/bin/x64 -lR C:\rtools44\x86_64-w64-mingw32.static.posix\bin/ld.exe: ParserXYS.o:ParserXYS.c:(.text+0x163): undefined reference to `error' collect2.exe: error: ld returned 1 exit status no DLL was created ERROR: compilation failed for package 'oligo' * removing 'F:/biocbuild/bbs-3.20-bioc/R/library/oligo' * restoring previous 'F:/biocbuild/bbs-3.20-bioc/R/library/oligo'