Package: oligo Version: 1.70.1 Command: /home/biocbuild/bbs-3.20-bioc/R/bin/R CMD check --install=check:oligo.install-out.txt --library=/home/biocbuild/bbs-3.20-bioc/R/site-library --timings oligo_1.70.1.tar.gz StartedAt: 2025-04-01 00:34:14 -0400 (Tue, 01 Apr 2025) EndedAt: 2025-04-01 00:39:20 -0400 (Tue, 01 Apr 2025) EllapsedTime: 306.3 seconds RetCode: 0 Status: WARNINGS CheckDir: oligo.Rcheck Warnings: 5