Package: oligo Version: 1.70.1 Command: /Library/Frameworks/R.framework/Resources/bin/R CMD build --keep-empty-dirs --no-resave-data oligo StartedAt: 2025-03-31 20:41:20 -0400 (Mon, 31 Mar 2025) EndedAt: 2025-03-31 20:41:24 -0400 (Mon, 31 Mar 2025) EllapsedTime: 4.5 seconds RetCode: 1 Status: ERROR PackageFile: None PackageFileSize: NA