Package: odseq Version: 1.34.0 Command: /home/biocbuild/R/R/bin/R CMD build --keep-empty-dirs --no-resave-data odseq StartedAt: 2025-04-01 01:14:38 -0000 (Tue, 01 Apr 2025) EndedAt: 2025-04-01 01:15:20 -0000 (Tue, 01 Apr 2025) EllapsedTime: 42.0 seconds RetCode: 0 Status: OK PackageFile: odseq_1.34.0.tar.gz PackageFileSize: 199.9 KiB