Package: odseq Version: 1.34.0 Command: /home/biocbuild/bbs-3.20-bioc/R/bin/R CMD build --keep-empty-dirs --no-resave-data --md5 odseq StartedAt: 2025-03-31 18:21:17 -0400 (Mon, 31 Mar 2025) EndedAt: 2025-03-31 18:21:46 -0400 (Mon, 31 Mar 2025) EllapsedTime: 29.0 seconds RetCode: 0 Status: OK PackageFile: odseq_1.34.0.tar.gz PackageFileSize: 230 KiB