Package: odseq Version: 1.34.0 Command: /Library/Frameworks/R.framework/Resources/bin/R CMD build --keep-empty-dirs --no-resave-data odseq StartedAt: 2025-03-31 20:41:14 -0400 (Mon, 31 Mar 2025) EndedAt: 2025-03-31 20:42:26 -0400 (Mon, 31 Mar 2025) EllapsedTime: 72.2 seconds RetCode: 0 Status: OK PackageFile: odseq_1.34.0.tar.gz PackageFileSize: 229.6 KiB