Package: octad Version: 1.8.0 Command: /home/biocbuild/R/R/bin/R CMD INSTALL octad StartedAt: 2025-03-31 21:03:16 -0000 (Mon, 31 Mar 2025) EndedAt: 2025-03-31 21:04:26 -0000 (Mon, 31 Mar 2025) EllapsedTime: 69.6 seconds RetCode: 0 Status: OK