Package: octad Version: 1.8.0 Command: /home/biocbuild/R/R/bin/R CMD build --keep-empty-dirs --no-resave-data octad StartedAt: 2025-04-01 01:14:29 -0000 (Tue, 01 Apr 2025) EndedAt: 2025-04-01 01:20:14 -0000 (Tue, 01 Apr 2025) EllapsedTime: 344.4 seconds RetCode: 0 Status: OK PackageFile: octad_1.8.0.tar.gz PackageFileSize: 1.192 MiB