Package: octad Version: 1.8.0 Command: /Library/Frameworks/R.framework/Resources/bin/R CMD INSTALL octad StartedAt: 2025-03-31 17:49:58 -0400 (Mon, 31 Mar 2025) EndedAt: 2025-03-31 17:51:00 -0400 (Mon, 31 Mar 2025) EllapsedTime: 62.1 seconds RetCode: 0 Status: OK