Package: octad Version: 1.8.0 Command: /Library/Frameworks/R.framework/Resources/bin/R CMD build --keep-empty-dirs --no-resave-data octad StartedAt: 2025-04-01 04:29:20 -0400 (Tue, 01 Apr 2025) EndedAt: 2025-04-01 04:34:14 -0400 (Tue, 01 Apr 2025) EllapsedTime: 293.4 seconds RetCode: 0 Status: OK PackageFile: octad_1.8.0.tar.gz PackageFileSize: 1.428 MiB