Package: octad Version: 1.8.0 Command: rm -rf octad.buildbin-libdir && mkdir octad.buildbin-libdir && /Users/biocbuild/BBS/utils/build-universal.sh octad_1.8.0.tar.gz /Library/Frameworks/R.framework/Resources/bin/R octad.buildbin-libdir StartedAt: 2025-04-02 15:29:46 -0400 (Wed, 02 Apr 2025) EndedAt: 2025-04-02 15:30:55 -0400 (Wed, 02 Apr 2025) EllapsedTime: 69.2 seconds RetCode: 0 Status: OK PackageFile: octad_1.8.0.tgz PackageFileSize: 1.502 MiB