Package: occugene Version: 1.66.0 Command: /Library/Frameworks/R.framework/Resources/bin/R CMD check --install=check:occugene.install-out.txt --library=/Library/Frameworks/R.framework/Resources/library --no-vignettes --timings occugene_1.66.0.tar.gz StartedAt: 2025-04-02 03:01:01 -0400 (Wed, 02 Apr 2025) EndedAt: 2025-04-02 03:01:26 -0400 (Wed, 02 Apr 2025) EllapsedTime: 25.0 seconds RetCode: 0 Status: OK CheckDir: occugene.Rcheck Warnings: 0